BEGIN:VCALENDAR
VERSION:2.0
PRODID:-//Plone.org//NONSGML plone.app.event//EN
X-WR-TIMEZONE:US/Eastern
BEGIN:VEVENT
SUMMARY:Library Board Meeting- Special
DTSTART;TZID=US/Eastern:20220110T173000
DTEND;TZID=US/Eastern:20220110T183000
DTSTAMP:20260420T150037Z
UID:3c9f1cda1327462cab954ad85c23d1af@saas_stack_varnish:6080
CONTACT:Tracy Logan\, 2317756541\, logant@cadillaclibrary.org
CREATED:20220106T153746Z
LAST-MODIFIED:20220106T153754Z
LOCATION:Cadillac Wexford Public Library
URL:https://www.cadillaclibrary.org/Calendar/calendar/library-board-meetin
 g-special-2
END:VEVENT
BEGIN:VTIMEZONE
TZID:US/Eastern
X-LIC-LOCATION:US/Eastern
BEGIN:STANDARD
DTSTART:20211107T010000
TZNAME:EST
TZOFFSETFROM:-0400
TZOFFSETTO:-0500
END:STANDARD
END:VTIMEZONE
END:VCALENDAR
