BEGIN:VCALENDAR
VERSION:2.0
PRODID:-//Plone.org//NONSGML plone.app.event//EN
X-WR-TIMEZONE:US/Eastern
BEGIN:VEVENT
SUMMARY:Beginning Excel
DTSTART;TZID=US/Eastern:20150225T100000
DTEND;TZID=US/Eastern:20150225T114500
DTSTAMP:20260422T023213Z
UID:616ca833a87c26d8e834fd5bc613e300@saas_stack_varnish:6080
CONTACT:231-775-6541
CREATED:20150120T150904Z
DESCRIPTION:Learn to use Microsoft Excel
LAST-MODIFIED:20150120T151002Z
LOCATION:Large Meeting Room
URL:https://www.cadillaclibrary.org/Calendar/lib-cal/beginning-excel-3.ics
END:VEVENT
BEGIN:VTIMEZONE
TZID:US/Eastern
X-LIC-LOCATION:US/Eastern
BEGIN:STANDARD
DTSTART:20141102T010000
TZNAME:EST
TZOFFSETFROM:-0400
TZOFFSETTO:-0500
END:STANDARD
END:VTIMEZONE
END:VCALENDAR
