BEGIN:VCALENDAR
VERSION:2.0
PRODID:-//Plone.org//NONSGML plone.app.event//EN
X-WR-TIMEZONE:US/Eastern
BEGIN:VEVENT
SUMMARY:Beginning Internet
DTSTART;TZID=US/Eastern:20130312T180000
DTEND;TZID=US/Eastern:20130312T200000
DTSTAMP:20260421T050313Z
UID:273dc6ec9324611fbaa8579d14d84837@saas_stack_varnish:6080
CONTACT:April\, 231-775-6541
CREATED:20130202T200909Z
DESCRIPTION:Learn to use the Internet
LAST-MODIFIED:20130202T200923Z
LOCATION:Cadillac Meetin Room
URL:https://www.cadillaclibrary.org/Calendar/lib-cal/beginning-internet-11
 .ics
END:VEVENT
BEGIN:VTIMEZONE
TZID:US/Eastern
X-LIC-LOCATION:US/Eastern
BEGIN:DAYLIGHT
DTSTART:20130310T030000
TZNAME:EDT
TZOFFSETFROM:-0500
TZOFFSETTO:-0400
END:DAYLIGHT
END:VTIMEZONE
END:VCALENDAR
