BEGIN:VCALENDAR
VERSION:2.0
PRODID:-//Plone.org//NONSGML plone.app.event//EN
X-WR-TIMEZONE:US/Eastern
BEGIN:VEVENT
SUMMARY:Chapter Time
DTSTART;TZID=US/Eastern:20170202T160000
DTEND;TZID=US/Eastern:20170202T170000
DTSTAMP:20260424T193048Z
UID:9331912853e348c7831ed6981429dd91@saas_stack_varnish:6080
ATTENDEE;CN="Kids ages 6+";ROLE=REQ-PARTICIPANT:Kids ages 6+
CONTACT:Miss Tracy\, 231-775-6541
CREATED:20170109T165453Z
DESCRIPTION:Chapter Time. Ages 6+. Listen to fantastic\, funny chapter boo
 ks read aloud and enjoy a quiet activity. No sign up necessary.
LAST-MODIFIED:20170109T165459Z
LOCATION:Storytime Area
URL:https://www.cadillaclibrary.org/Calendar/lib-cal/chapter-time/2017-02-
 02
END:VEVENT
BEGIN:VTIMEZONE
TZID:US/Eastern
X-LIC-LOCATION:US/Eastern
BEGIN:STANDARD
DTSTART:20161106T010000
TZNAME:EST
TZOFFSETFROM:-0400
TZOFFSETTO:-0500
END:STANDARD
END:VTIMEZONE
END:VCALENDAR
