BEGIN:VCALENDAR
VERSION:2.0
PRODID:-//Plone.org//NONSGML plone.app.event//EN
X-WR-TIMEZONE:US/Eastern
BEGIN:VEVENT
SUMMARY:Charlie Brown Christmas (movie)
DTSTART;TZID=US/Eastern:20131212T180000
DTEND;TZID=US/Eastern:20131212T200000
DTSTAMP:20260423T082112Z
UID:27f5634899aa3e18996fbbb65f8e6883@saas_stack_varnish:6080
CONTACT:231-775-6541
CREATED:20131119T173038Z
DESCRIPTION:Movie Charlie Brown Christmas rated G with a run time of 1 hou
 r 13 minutes.
LAST-MODIFIED:20131119T173215Z
LOCATION:Large Meeting Room
URL:https://www.cadillaclibrary.org/Calendar/lib-cal/charlie-brown-christm
 as-movie.ics
END:VEVENT
BEGIN:VTIMEZONE
TZID:US/Eastern
X-LIC-LOCATION:US/Eastern
BEGIN:STANDARD
DTSTART:20131103T010000
TZNAME:EST
TZOFFSETFROM:-0400
TZOFFSETTO:-0500
END:STANDARD
END:VTIMEZONE
END:VCALENDAR
