BEGIN:VCALENDAR
VERSION:2.0
PRODID:-//Plone.org//NONSGML plone.app.event//EN
X-WR-TIMEZONE:US/Eastern
BEGIN:VEVENT
SUMMARY:FOL Program: Speed Painter- Martina Hahn
DTSTART;TZID=US/Eastern:20180914T181500
DTEND;TZID=US/Eastern:20180914T191500
DTSTAMP:20260420T093331Z
UID:087a631e0de4488c943433f13c966fdb@saas_stack_varnish:6080
ATTENDEE;CN="$25 per person.";ROLE=REQ-PARTICIPANT:$25 per person.
CONTACT:Vicki Essenmacher\, 231-510-9047\, http://friendsofthecadillaclibr
 ary.com/
CREATED:20180823T203250Z
DESCRIPTION:Speed painter Martina Hahn presented by the Friends of the Cad
 illac Library as a benefit.
LAST-MODIFIED:20180823T204405Z
LOCATION:Up North Arts Center
URL:https://www.cadillaclibrary.org/Calendar/lib-cal/fol-program-speed-pai
 nter-martina-hahn
END:VEVENT
BEGIN:VTIMEZONE
TZID:US/Eastern
X-LIC-LOCATION:US/Eastern
BEGIN:DAYLIGHT
DTSTART:20180311T030000
TZNAME:EDT
TZOFFSETFROM:-0500
TZOFFSETTO:-0400
END:DAYLIGHT
END:VTIMEZONE
END:VCALENDAR
