BEGIN:VCALENDAR
VERSION:2.0
PRODID:-//Plone.org//NONSGML plone.app.event//EN
X-WR-TIMEZONE:US/Eastern
BEGIN:VEVENT
SUMMARY:Free Movies @ the Library
DTSTART;TZID=US/Eastern:20160121T170000
DTEND;TZID=US/Eastern:20160121T193000
DTSTAMP:20260420T081630Z
UID:4e36646339ba4b73b88a237df7c6b913@saas_stack_varnish:6080
CONTACT:231-775-6541
CREATED:20160118T194236Z
DESCRIPTION:The Martian Rated PG-13 with a run time of 2 hours 22 minutes.
   Bring a snack and beverage and enjoy the show.
LAST-MODIFIED:20160118T194240Z
LOCATION:Cadillac Wexford Public Library
URL:https://www.cadillaclibrary.org/Calendar/lib-cal/free-movies-the-libra
 ry-10
END:VEVENT
BEGIN:VTIMEZONE
TZID:US/Eastern
X-LIC-LOCATION:US/Eastern
BEGIN:STANDARD
DTSTART:20151101T010000
TZNAME:EST
TZOFFSETFROM:-0400
TZOFFSETTO:-0500
END:STANDARD
END:VTIMEZONE
END:VCALENDAR
