BEGIN:VCALENDAR
VERSION:2.0
PRODID:-//Plone.org//NONSGML plone.app.event//EN
X-WR-TIMEZONE:US/Eastern
BEGIN:VEVENT
SUMMARY:Friends of the Library Program
DTSTART;TZID=US/Eastern:20150709T120000
DTEND;TZID=US/Eastern:20150709T130000
DTSTAMP:20260421T083115Z
UID:c2f410278ca0afab2ee57c0aaa5436d9@saas_stack_varnish:6080
CONTACT:231-510-9047
CREATED:20150420T155544Z
DESCRIPTION:Lunch and Learn.  Bring your own lunch and enjoy a visit from 
 Author Suzi Parron.
LAST-MODIFIED:20150420T160402Z
LOCATION:Community Meeting Room
URL:https://www.cadillaclibrary.org/Calendar/lib-cal/friends-of-the-librar
 y-program.ics
END:VEVENT
BEGIN:VTIMEZONE
TZID:US/Eastern
X-LIC-LOCATION:US/Eastern
BEGIN:DAYLIGHT
DTSTART:20150308T030000
TZNAME:EDT
TZOFFSETFROM:-0500
TZOFFSETTO:-0400
END:DAYLIGHT
END:VTIMEZONE
END:VCALENDAR
