BEGIN:VCALENDAR
VERSION:2.0
PRODID:-//Plone.org//NONSGML plone.app.event//EN
X-WR-TIMEZONE:US/Eastern
BEGIN:VEVENT
SUMMARY:Holiday Closing
DTSTART;TZID=US/Eastern:20141231T090000
DTEND;TZID=US/Eastern:20150101T200000
DTSTAMP:20260420T081833Z
UID:a8cf6e0211ae7fc7c582fccd03b6ecda@saas_stack_varnish:6080
CONTACT:231-775-6541
CREATED:20131202T173006Z
DESCRIPTION:The library is closed Wednesday December 31st  2014 and Thursd
 ay January 1st 2015
LAST-MODIFIED:20131202T200713Z
LOCATION:Library
URL:https://www.cadillaclibrary.org/Calendar/lib-cal/holiday-closing-8.ics
END:VEVENT
BEGIN:VTIMEZONE
TZID:US/Eastern
X-LIC-LOCATION:US/Eastern
BEGIN:STANDARD
DTSTART:20141102T010000
TZNAME:EST
TZOFFSETFROM:-0400
TZOFFSETTO:-0500
END:STANDARD
END:VTIMEZONE
END:VCALENDAR
