BEGIN:VCALENDAR
VERSION:2.0
PRODID:-//Plone.org//NONSGML plone.app.event//EN
X-WR-TIMEZONE:US/Eastern
BEGIN:VEVENT
SUMMARY:How to Look Like A Zombie Workshop
DTSTART;TZID=US/Eastern:20151020T160000
DTEND;TZID=US/Eastern:20151020T170000
DTSTAMP:20260421T083631Z
UID:287712d060464869be63e35ee0300fc7@saas_stack_varnish:6080
ATTENDEE;CN="Grades 5+";ROLE=REQ-PARTICIPANT:Grades 5+
CONTACT:Miss Emily (oleniczake@cadillaclibrary.org)\, (231) 775-6541\, ole
 niczake@cadillaclibrary.org
CREATED:20150825T211336Z
DESCRIPTION:Learn how to make the most gruesome zombie wounds. Grades 5th+
LAST-MODIFIED:20150825T211407Z
LOCATION:Community Room
URL:https://www.cadillaclibrary.org/Calendar/lib-cal/how-to-look-like-a-zo
 mbie-workshop
END:VEVENT
BEGIN:VTIMEZONE
TZID:US/Eastern
X-LIC-LOCATION:US/Eastern
BEGIN:DAYLIGHT
DTSTART:20150308T030000
TZNAME:EDT
TZOFFSETFROM:-0500
TZOFFSETTO:-0400
END:DAYLIGHT
END:VTIMEZONE
END:VCALENDAR
