BEGIN:VCALENDAR
VERSION:2.0
PRODID:-//Plone.org//NONSGML plone.app.event//EN
X-WR-TIMEZONE:US/Eastern
BEGIN:VEVENT
SUMMARY:Internet (Computer Class)
DTSTART;TZID=US/Eastern:20180913T100000
DTEND;TZID=US/Eastern:20180913T113000
DTSTAMP:20260420T093207Z
UID:daf6d42598bf40e3867006fe617c5a7f@saas_stack_varnish:6080
ATTENDEE;CN="Attendees may bring in their own laptops to use during class.
 ";ROLE=REQ-PARTICIPANT:Attendees may bring in their own laptops to use dur
 ing class.
CONTACT:231-775-6541
CREATED:20180824T204158Z
DESCRIPTION:Learn how to navigate the Internet.
LAST-MODIFIED:20180824T204202Z
LOCATION:Cadillac Wexford Public Library
URL:https://www.cadillaclibrary.org/Calendar/lib-cal/internet-computer-cla
 ss
END:VEVENT
BEGIN:VTIMEZONE
TZID:US/Eastern
X-LIC-LOCATION:US/Eastern
BEGIN:DAYLIGHT
DTSTART:20180311T030000
TZNAME:EDT
TZOFFSETFROM:-0500
TZOFFSETTO:-0400
END:DAYLIGHT
END:VTIMEZONE
END:VCALENDAR
