BEGIN:VCALENDAR
VERSION:2.0
PRODID:-//Plone.org//NONSGML plone.app.event//EN
X-WR-TIMEZONE:US/Eastern
BEGIN:VEVENT
SUMMARY:Laura Gatz (FOL Program)
DTSTART;TZID=US/Eastern:20140315T130000
DTEND;TZID=US/Eastern:20140315T150000
DTSTAMP:20260422T163121Z
UID:268ef172386c82d37fe7e002174ef9f3@saas_stack_varnish:6080
CREATED:20130918T143717Z
DESCRIPTION:Laura Gatz\, world traveler/author shares a pictorial\, "Afric
 a via Antarctica" Sixty sunsets in the southern hemisphere.
LAST-MODIFIED:20140219T175933Z
LOCATION:Large Meeting Room
URL:https://www.cadillaclibrary.org/Calendar/lib-cal/laura-gatz-fol-progra
 m.ics
END:VEVENT
BEGIN:VTIMEZONE
TZID:US/Eastern
X-LIC-LOCATION:US/Eastern
BEGIN:DAYLIGHT
DTSTART:20140309T030000
TZNAME:EDT
TZOFFSETFROM:-0500
TZOFFSETTO:-0400
END:DAYLIGHT
END:VTIMEZONE
END:VCALENDAR
