BEGIN:VCALENDAR
VERSION:2.0
PRODID:-//Plone.org//NONSGML plone.app.event//EN
X-WR-TIMEZONE:US/Eastern
BEGIN:VEVENT
SUMMARY:Minecraft in the Library
DTSTART;TZID=US/Eastern:20161208T150000
DTEND;TZID=US/Eastern:20161208T180000
DTSTAMP:20260420T133902Z
UID:a930fa5b653844f7af813d876201803f@saas_stack_varnish:6080
RRULE:FREQ=DAILY;COUNT=2;INTERVAL=7
ATTENDEE;CN="Grades 5-12";ROLE=REQ-PARTICIPANT:Grades 5-12
CONTACT:Miss Emily\, (231) 775-6541\, oleniczake@cadillaclibrary.org
CREATED:20161202T180855Z
DESCRIPTION:Drop-in Thursdays 3-6pm. Grades 5-12. Sign in at the Informati
 on Desk. Library supplies Minecraft account.
LAST-MODIFIED:20161202T180903Z
LOCATION:Cadillac Wexford Public Library
URL:https://www.cadillaclibrary.org/Calendar/lib-cal/minecraft-in-the-libr
 ary-5
END:VEVENT
BEGIN:VTIMEZONE
TZID:US/Eastern
X-LIC-LOCATION:US/Eastern
BEGIN:STANDARD
DTSTART:20161106T010000
TZNAME:EST
TZOFFSETFROM:-0400
TZOFFSETTO:-0500
END:STANDARD
END:VTIMEZONE
END:VCALENDAR
