BEGIN:VCALENDAR
VERSION:2.0
PRODID:-//Plone.org//NONSGML plone.app.event//EN
X-WR-TIMEZONE:US/Eastern
BEGIN:VEVENT
SUMMARY:Minecraft in the Library
DTSTART;TZID=US/Eastern:20170313T150000
DTEND;TZID=US/Eastern:20170313T200000
DTSTAMP:20260421T112447Z
UID:f0a8d16fc94243598efa253c1074f2ef@saas_stack_varnish:6080
ATTENDEE;CN="Grades 5-12";ROLE=REQ-PARTICIPANT:Grades 5-12
CONTACT:Miss Emily\, (231) 775-6541\, oleniczake@cadillaclibrary.org
CREATED:20170220T221927Z
DESCRIPTION:Drop-in Mondays 3-8pm. Grades 5-12. Sign in at the Information
  Desk. Library supplies Minecraft account.
LAST-MODIFIED:20170220T221936Z
LOCATION:Cadillac Wexford Public Library
URL:https://www.cadillaclibrary.org/Calendar/lib-cal/minecraft-in-the-libr
 ary-8/2017-03-13
END:VEVENT
BEGIN:VTIMEZONE
TZID:US/Eastern
X-LIC-LOCATION:US/Eastern
BEGIN:DAYLIGHT
DTSTART:20170312T030000
TZNAME:EDT
TZOFFSETFROM:-0500
TZOFFSETTO:-0400
END:DAYLIGHT
END:VTIMEZONE
END:VCALENDAR
