BEGIN:VCALENDAR
VERSION:2.0
PRODID:-//Plone.org//NONSGML plone.app.event//EN
X-WR-TIMEZONE:US/Eastern
BEGIN:VEVENT
SUMMARY:Ninja Nerf Wars
DTSTART;TZID=US/Eastern:20130921T183000
DTEND;TZID=US/Eastern:20130921T200000
DTSTAMP:20260421T042226Z
UID:701d44fa3126c79e13eb9f00f4b682a4@saas_stack_varnish:6080
CONTACT:Miss Tracy\, 231-775-6541\, logant@cadillaclibrary.org
CREATED:20130827T142522Z
DESCRIPTION:Ages 8-12. Danger lurks in every shadowy corner of the library
 ! Bring your Nerf guns and fight the Ninja invasion! Sign up by calling or
  emailing Miss Tracy by Sept. 18.
LAST-MODIFIED:20130827T142950Z
LOCATION:Cadillac Wexford Public Library
URL:https://www.cadillaclibrary.org/Calendar/lib-cal/ninja-nerf-wars.ics
END:VEVENT
BEGIN:VTIMEZONE
TZID:US/Eastern
X-LIC-LOCATION:US/Eastern
BEGIN:DAYLIGHT
DTSTART:20130310T030000
TZNAME:EDT
TZOFFSETFROM:-0500
TZOFFSETTO:-0400
END:DAYLIGHT
END:VTIMEZONE
END:VCALENDAR
