BEGIN:VCALENDAR
VERSION:2.0
PRODID:-//Plone.org//NONSGML plone.app.event//EN
X-WR-TIMEZONE:US/Eastern
BEGIN:VEVENT
SUMMARY:Rubber Band Engineering
DTSTART;TZID=US/Eastern:20170214T163000
DTEND;TZID=US/Eastern:20170214T180000
DTSTAMP:20260420T081655Z
UID:46cbc0d0db734a3ab4fcd972757ef514@saas_stack_varnish:6080
ATTENDEE;CN="Grades 7-12";ROLE=REQ-PARTICIPANT:Grades 7-12
CONTACT:Miss Emily\, (231) 775-6541\, oleniczake@cadillaclibrary.org
CREATED:20161219T201927Z
DESCRIPTION:Explore unexpected ways to turn common materials into imaginat
 ive gadgets. TUES FEB 14th\, 4:30-6pm. Grades 7-12.
LAST-MODIFIED:20161219T201933Z
LOCATION:Community Room
URL:https://www.cadillaclibrary.org/Calendar/lib-cal/rubber-band-engineeri
 ng
END:VEVENT
BEGIN:VTIMEZONE
TZID:US/Eastern
X-LIC-LOCATION:US/Eastern
BEGIN:STANDARD
DTSTART:20161106T010000
TZNAME:EST
TZOFFSETFROM:-0400
TZOFFSETTO:-0500
END:STANDARD
END:VTIMEZONE
END:VCALENDAR
