BEGIN:VCALENDAR
VERSION:2.0
PRODID:-//Plone.org//NONSGML plone.app.event//EN
X-WR-TIMEZONE:US/Eastern
BEGIN:VEVENT
SUMMARY:Self Care: Food Preservation
DTSTART;TZID=US/Eastern:20180915T100000
DTEND;TZID=US/Eastern:20180915T113000
DTSTAMP:20260420T094001Z
UID:4207d8f42abd4abda1589ee0d3c78132@saas_stack_varnish:6080
ATTENDEE;CN="Ages 12+";ROLE=REQ-PARTICIPANT:Ages 12+
CATEGORIES:SelfCare18
CONTACT:231-775-6541
CREATED:20180823T204006Z
DESCRIPTION:MSU Extension presents on the most up to date practices for ho
 me food preservation\, as you learn the "How's" and "Why's" behind various
  recommendations.
LAST-MODIFIED:20180823T204258Z
LOCATION:Cadillac Wexford Public Library
URL:https://www.cadillaclibrary.org/Calendar/lib-cal/self-care-food-preser
 vation
END:VEVENT
BEGIN:VTIMEZONE
TZID:US/Eastern
X-LIC-LOCATION:US/Eastern
BEGIN:DAYLIGHT
DTSTART:20180311T030000
TZNAME:EDT
TZOFFSETFROM:-0500
TZOFFSETTO:-0400
END:DAYLIGHT
END:VTIMEZONE
END:VCALENDAR
