BEGIN:VCALENDAR
VERSION:2.0
PRODID:-//Plone.org//NONSGML plone.app.event//EN
X-WR-TIMEZONE:US/Eastern
BEGIN:VEVENT
SUMMARY:Sword in the Stone (movie)
DTSTART;TZID=US/Eastern:20130502T180000
DTEND;TZID=US/Eastern:20130502T200000
DTSTAMP:20260422T182827Z
UID:9f9fd6ab1836b1446a8df42ad4c7fb4f@saas_stack_varnish:6080
CONTACT:231-775-6541
CREATED:20130501T213552Z
LAST-MODIFIED:20130501T213714Z
LOCATION:Large Meeting Room
URL:https://www.cadillaclibrary.org/Calendar/lib-cal/sword-in-the-stone-mo
 vie.ics
END:VEVENT
BEGIN:VTIMEZONE
TZID:US/Eastern
X-LIC-LOCATION:US/Eastern
BEGIN:DAYLIGHT
DTSTART:20130310T030000
TZNAME:EDT
TZOFFSETFROM:-0500
TZOFFSETTO:-0400
END:DAYLIGHT
END:VTIMEZONE
END:VCALENDAR
