BEGIN:VCALENDAR
VERSION:2.0
PRODID:-//Plone.org//NONSGML plone.app.event//EN
X-WR-TIMEZONE:US/Eastern
BEGIN:VEVENT
SUMMARY:Wednesday Wigglers
DTSTART;TZID=US/Eastern:20150708T110000
DTEND;TZID=US/Eastern:20150708T113000
DTSTAMP:20260425T203551Z
UID:bcdd37388820463cac9c4e322f1c714e@saas_stack_varnish:6080
ATTENDEE;CN="Ages 0-4 years old";ROLE=REQ-PARTICIPANT:Ages 0-4 years old
CONTACT:Miss Tracy\, 231-775-6541
CREATED:20150721T194032Z
DESCRIPTION:Ages 0-4 years old\nMusic and movement for babies\, toddlers\,
  and caregivers!
LAST-MODIFIED:20150804T200901Z
LOCATION:Cadillac Library Children's Room
URL:https://www.cadillaclibrary.org/Calendar/lib-cal/wednesday-wigglers/20
 15-07-08
END:VEVENT
BEGIN:VTIMEZONE
TZID:US/Eastern
X-LIC-LOCATION:US/Eastern
BEGIN:DAYLIGHT
DTSTART:20150308T030000
TZNAME:EDT
TZOFFSETFROM:-0500
TZOFFSETTO:-0400
END:DAYLIGHT
END:VTIMEZONE
END:VCALENDAR
